BEGIN:VCALENDAR
VERSION:2.0
PRODID:-//ChamberMaster//Event Calendar 2.0//EN
METHOD:PUBLISH
X-PUBLISHED-TTL:P3D
REFRESH-INTERVAL:P3D
CALSCALE:GREGORIAN
BEGIN:VEVENT
DTSTART:20200304T174500Z
DTEND:20200304T190000Z
X-MICROSOFT-CDO-ALLDAYEVENT:FALSE
SUMMARY:Wellington Group Ribbon Cutting
DESCRIPTION:Wellington Group Ribbon Cutting
X-ALT-DESC;FMTTYPE=text/html:<p>Wellington Group Ribbon Cutting</p>\n
LOCATION:26875 U.S. Highway 380 E Aubrey\, TX 76227
UID:e.454.3280
SEQUENCE:3
DTSTAMP:20260420T120343Z
URL:https://business.aubreycoc.org/events/details/wellington-group-ribbon-cutting-3280
END:VEVENT

END:VCALENDAR
