BEGIN:VCALENDAR
VERSION:2.0
PRODID:-//ChamberMaster//Event Calendar 2.0//EN
METHOD:PUBLISH
X-PUBLISHED-TTL:P3D
REFRESH-INTERVAL:P3D
CALSCALE:GREGORIAN
BEGIN:VEVENT
DTSTART:20200220T220000Z
DTEND:20200221T000000Z
X-MICROSOFT-CDO-ALLDAYEVENT:FALSE
SUMMARY:Viso Bello Spa Grand Opening & Ribbon Cutting
DESCRIPTION:Grand Opening and Ribbon Cutting
X-ALT-DESC;FMTTYPE=text/html:<p><strong><span style="font-size:16px\;">Grand Opening and Ribbon Cutting</span></strong></p>\n
LOCATION:8700 Hwy 380\, Ste. 506 Cross Roads\, TX 76227
UID:e.454.3281
SEQUENCE:3
DTSTAMP:20260420T132812Z
URL:https://business.aubreycoc.org/events/details/viso-bello-spa-grand-opening-ribbon-cutting-3281
END:VEVENT

END:VCALENDAR
