BEGIN:VCALENDAR
VERSION:2.0
PRODID:-//ChamberMaster//Event Calendar 2.0//EN
METHOD:PUBLISH
X-PUBLISHED-TTL:P3D
REFRESH-INTERVAL:P3D
CALSCALE:GREGORIAN
BEGIN:VEVENT
DTSTART:20201020T000000Z
DTEND:20201020T020000Z
X-MICROSOFT-CDO-ALLDAYEVENT:FALSE
SUMMARY:Town of Cross Roads City Council Meeting
DESCRIPTION:
X-ALT-DESC;FMTTYPE=text/html:
LOCATION:Cross Roads Town Hall
UID:e.454.891
SEQUENCE:3
DTSTAMP:20260420T020057Z
URL:https://business.aubreycoc.org/events/details/town-of-cross-roads-city-council-meeting-10-19-2020-891
END:VEVENT

END:VCALENDAR
