BEGIN:VCALENDAR
VERSION:2.0
PRODID:-//ChamberMaster//Event Calendar 2.0//EN
METHOD:PUBLISH
X-PUBLISHED-TTL:P3D
REFRESH-INTERVAL:P3D
CALSCALE:GREGORIAN
BEGIN:VEVENT
DTSTART:20170516T000000Z
DTEND:20170516T020000Z
X-MICROSOFT-CDO-ALLDAYEVENT:FALSE
SUMMARY:Town of Cross Roads City Council Meeting
DESCRIPTION:
X-ALT-DESC;FMTTYPE=text/html:
LOCATION:Cross Roads Town Hall
UID:e.454.850
SEQUENCE:3
DTSTAMP:20260422T180303Z
URL:https://business.aubreycoc.org/events/details/town-of-cross-roads-city-council-meeting-05-15-2017-850
END:VEVENT

END:VCALENDAR
