BEGIN:VCALENDAR
VERSION:2.0
PRODID:-//ChamberMaster//Event Calendar 2.0//EN
METHOD:PUBLISH
X-PUBLISHED-TTL:P3D
REFRESH-INTERVAL:P3D
CALSCALE:GREGORIAN
BEGIN:VEVENT
DTSTART:20170520T223000Z
DTEND:20170521T040000Z
X-MICROSOFT-CDO-ALLDAYEVENT:FALSE
SUMMARY:Silver Dollar at the Ranch
DESCRIPTION:The 10th Annual Silver Dollar at the Ranch is coming on May 20th\, 2017! The charity event sponsored by PrimeLending will benefit Speedway Children's Charities at Texas Motor Speedway to raise needed funds to support pediatric cancer initiatives in the Dallas\, Tarrant\, Collin and Denton County areas. Centered in North Texas\, the outdoor Party with a Purpose has raised over $2 million dollars in nine years and there is little chance of it slowing down. Ranch owners\, Mardi and Chip Ferrier\, generously donate and host Silver Dollar at the Ranch year after year on their beautiful XO Ranch in Aubrey\, Texas. Experience Wanted: A Cure for Cancer throughout this breathtaking venue.
X-ALT-DESC;FMTTYPE=text/html:<span style="color: rgb(116\, 116\, 116)\; font-family: &quot\;PT Sans&quot\;\, Arial\, Helvetica\, sans-serif\; font-size: 15px\; background-color: rgb(255\, 255\, 255)\;">The 10th Annual Silver Dollar at the Ranch is coming on&nbsp\;</span><b style="box-sizing: border-box\; color: rgb(116\, 116\, 116)\; font-family: &quot\;PT Sans&quot\;\, Arial\, Helvetica\, sans-serif\; font-size: 15px\; background-color: rgb(255\, 255\, 255)\;">May 20th\, 2017!</b><span style="color: rgb(116\, 116\, 116)\; font-family: &quot\;PT Sans&quot\;\, Arial\, Helvetica\, sans-serif\; font-size: 15px\; background-color: rgb(255\, 255\, 255)\;">&nbsp\;The charity event sponsored by&nbsp\;</span><a href="http://primelending.com/" style="box-sizing: border-box\; text-decoration-line: none\; font-family: &quot\;PT Sans&quot\;\, Arial\, Helvetica\, sans-serif\; font-size: 15px\; background-color: rgb(255\, 255\, 255)\; color: blue !important\;" target="_&quot\;blank&quot\;">PrimeLending</a><span style="color: rgb(116\, 116\, 116)\; font-family: &quot\;PT Sans&quot\;\, Arial\, Helvetica\, sans-serif\; font-size: 15px\; background-color: rgb(255\, 255\, 255)\;">&nbsp\;will benefit Speedway Children&rsquo\;s Charities at Texas Motor Speedway to raise needed funds to support pediatric cancer initiatives in the Dallas\, Tarrant\, Collin and Denton County areas. Centered in North Texas\, the outdoor&nbsp\;</span><i style="box-sizing: border-box\; color: rgb(116\, 116\, 116)\; font-family: &quot\;PT Sans&quot\;\, Arial\, Helvetica\, sans-serif\; font-size: 15px\; background-color: rgb(255\, 255\, 255)\;">Party with a Purpose</i><span style="color: rgb(116\, 116\, 116)\; font-family: &quot\;PT Sans&quot\;\, Arial\, Helvetica\, sans-serif\; font-size: 15px\; background-color: rgb(255\, 255\, 255)\;">&nbsp\;has raised over $2 million dollars in nine years and there is little chance of it slowing down. Ranch owners\, Mardi and Chip Ferrier\, generously donate and host Silver Dollar at the Ranch year after year on their beautiful XO Ranch in Aubrey\, Texas. Experience&nbsp\;</span><i style="box-sizing: border-box\; color: rgb(116\, 116\, 116)\; font-family: &quot\;PT Sans&quot\;\, Arial\, Helvetica\, sans-serif\; font-size: 15px\; background-color: rgb(255\, 255\, 255)\;">Wanted: A Cure for </i><i style="box-sizing: border-box\; color: rgb(116\, 116\, 116)\; font-family: &quot\;PT Sans&quot\;\, Arial\, Helvetica\, sans-serif\; font-size: 15px\; background-color: rgb(255\, 255\, 255)\;">Cancer&nbsp\;</i><span style="color: rgb(116\, 116\, 116)\; font-family: &quot\;PT Sans&quot\;\, Arial\, Helvetica\, sans-serif\; font-size: 15px\; background-color: rgb(255\, 255\, 255)\;">throughout</span><span style="color: rgb(116\, 116\, 116)\; font-family: &quot\;PT Sans&quot\;\, Arial\, Helvetica\, sans-serif\; font-size: 15px\; background-color: rgb(255\, 255\, 255)\;"> this breathtaking venue.</span>
LOCATION:XO Ranch Aubrey\, Texas
UID:e.454.1344
SEQUENCE:3
DTSTAMP:20260422T174652Z
URL:https://business.aubreycoc.org/events/details/silver-dollar-at-the-ranch-1344
END:VEVENT

END:VCALENDAR
