BEGIN:VCALENDAR
VERSION:2.0
PRODID:-//ChamberMaster//Event Calendar 2.0//EN
METHOD:PUBLISH
X-PUBLISHED-TTL:P3D
REFRESH-INTERVAL:P3D
CALSCALE:GREGORIAN
BEGIN:VEVENT
DTSTART:20090715T183000Z
DTEND:20090715T193000Z
X-MICROSOFT-CDO-ALLDAYEVENT:FALSE
SUMMARY:Sherwin Williams Ribbon Cutting
DESCRIPTION:
X-ALT-DESC;FMTTYPE=text/html:
LOCATION:
UID:e.454.279
SEQUENCE:3
DTSTAMP:20260420T193411Z
URL:https://business.aubreycoc.org/events/details/sherwin-williams-ribbon-cutting-07-15-2009-279
END:VEVENT

END:VCALENDAR
