BEGIN:VCALENDAR
VERSION:2.0
PRODID:-//ChamberMaster//Event Calendar 2.0//EN
METHOD:PUBLISH
X-PUBLISHED-TTL:P3D
REFRESH-INTERVAL:P3D
CALSCALE:GREGORIAN
BEGIN:VEVENT
DTSTART:20090124T013000Z
DTEND:20090124T033000Z
X-MICROSOFT-CDO-ALLDAYEVENT:FALSE
SUMMARY:Shelley Torres West Concert
DESCRIPTION:Hometown Girl Sings Benefit Jazz Concert\nShelly Torres-West\, longtime resident of Aubrey\, Texas will perform her first full length concert in her hometown. In fact\, it's been over ten years since she has presented a concert in Denton. On January 23rd\, 2009\, she will present a program of jazz and contemporary Christian music in a benefit concert for the Aubrey Methodist Church
X-ALT-DESC;FMTTYPE=text/html:<div>Hometown Girl Sings Benefit Jazz Concert<br />Shelly Torres-West\, longtime resident of Aubrey\, Texas will perform her first full length concert in her hometown. In fact\, it&rsquo\;s been over ten years since she has presented a concert in Denton. On January 23rd\, 2009\, she will present a program of jazz and contemporary Christian music in a benefit concert for the Aubrey Methodist Church</div>
LOCATION:Aubrey First United Methodist Church113 W Plum Street Aubrey\, Texas 76227 Get Directions
UID:e.454.264
SEQUENCE:3
DTSTAMP:20260421T053637Z
URL:https://business.aubreycoc.org/events/details/shelley-torres-west-concert-01-23-2009-264
END:VEVENT

END:VCALENDAR
