BEGIN:VCALENDAR
VERSION:2.0
PRODID:-//ChamberMaster//Event Calendar 2.0//EN
METHOD:PUBLISH
X-PUBLISHED-TTL:P3D
REFRESH-INTERVAL:P3D
CALSCALE:GREGORIAN
BEGIN:VEVENT
DTSTART:20191025T200000Z
DTEND:20191025T230000Z
X-MICROSOFT-CDO-ALLDAYEVENT:FALSE
SUMMARY:Rockhill Counseling Grand Opening
DESCRIPTION:Please join us for our Grand Opening of our Counseling Center on the Farm!  Self Guided Tours\, Baked Potato Bar\, and Door Prizes!
X-ALT-DESC;FMTTYPE=text/html:Please join us for our Grand Opening of our Counseling Center on the Farm!&nbsp\; Self Guided Tours\, Baked Potato Bar\, and Door Prizes!
LOCATION:4344 Rockhill Road\, Aubrey\, TX 76227
UID:e.454.3272
SEQUENCE:3
DTSTAMP:20260420T193411Z
URL:https://business.aubreycoc.org/events/details/rockhill-counseling-grand-opening-3272
END:VEVENT

END:VCALENDAR
