BEGIN:VCALENDAR
VERSION:2.0
PRODID:-//ChamberMaster//Event Calendar 2.0//EN
METHOD:PUBLISH
X-PUBLISHED-TTL:P3D
REFRESH-INTERVAL:P3D
CALSCALE:GREGORIAN
BEGIN:VEVENT
DTSTART:20191031T223000Z
DTEND:20191101T003000Z
X-MICROSOFT-CDO-ALLDAYEVENT:FALSE
SUMMARY:Pumpkins in the Park
DESCRIPTION:Aubrey 380 Area Chamber of Commerce presents\n\n"Pumpkins in the Park"\n\n	Safe Trick or Treat\, games and activities provided by local businesses\n	Prizes for best decorated table or trunk\,  and best costume by business participant\n	Kids costume contest at 6:30:  ages 0-2\, 3-5\, 6-8\, 9+\n	"Meet the Monsters"\n\n***If it is raining in Downtown Aubrey at 5:00 PM\, the event will be cancelled***
X-ALT-DESC;FMTTYPE=text/html:Aubrey 380 Area Chamber of Commerce presents<br />\n&quot\;Pumpkins in the Park&quot\;\n<ul>\n	<li>Safe Trick or Treat\, games and activities provided by local businesses</li>\n	<li>Prizes for best decorated table or trunk\,&nbsp\; and best costume by business participant</li>\n	<li>Kids costume contest at 6:30:&nbsp\; ages 0-2\, 3-5\, 6-8\, 9+</li>\n	<li><em><span style="font-family:comic sans ms\;">&quot\;Meet the Monsters&quot\;</span></em></li>\n</ul>\n***If it is raining in Downtown Aubrey at 5:00 PM\, the event will be cancelled***
LOCATION:Downtown Aubrey Festival Park 301 S Main Street Aubrey\, TX 76227
UID:e.454.3273
SEQUENCE:3
DTSTAMP:20260420T193320Z
URL:https://business.aubreycoc.org/events/details/pumpkins-in-the-park-3273
END:VEVENT

END:VCALENDAR
