BEGIN:VCALENDAR
VERSION:2.0
PRODID:-//ChamberMaster//Event Calendar 2.0//EN
METHOD:PUBLISH
X-PUBLISHED-TTL:P3D
REFRESH-INTERVAL:P3D
CALSCALE:GREGORIAN
BEGIN:VEVENT
DTSTART:20300103T140000Z
DTEND:20300103T150000Z
X-MICROSOFT-CDO-ALLDAYEVENT:FALSE
SUMMARY:Point Bank Business Breakfast
DESCRIPTION:Business Breakfast
X-ALT-DESC;FMTTYPE=text/html:Business Breakfast&nbsp\;
LOCATION:922 S Highway 377 Aubrey\, Texas 76227
UID:e.454.4272
SEQUENCE:3
DTSTAMP:20260421T012051Z
URL:https://business.aubreycoc.org/events/details/point-bank-business-breakfast-01-03-2030-4272
END:VEVENT

END:VCALENDAR
