BEGIN:VCALENDAR
VERSION:2.0
PRODID:-//ChamberMaster//Event Calendar 2.0//EN
METHOD:PUBLISH
X-PUBLISHED-TTL:P3D
REFRESH-INTERVAL:P3D
CALSCALE:GREGORIAN
BEGIN:VEVENT
DTSTART:20190601T210000Z
DTEND:20190602T013000Z
X-MICROSOFT-CDO-ALLDAYEVENT:FALSE
SUMMARY:Park Fest 2019
DESCRIPTION:Family fun\,food\,games and Live Music!  \n\n4:00 Austin Michael\n\n5:15 Cameron Hobbs Band\n\n7:00 Jason Boland and the Stragglers
X-ALT-DESC;FMTTYPE=text/html:Family fun\,food\,games and Live Music!&nbsp\;&nbsp\;<br />\n4:00 Austin Michael<br />\n5:15 Cameron Hobbs Band<br />\n7:00 Jason Boland and the Stragglers
LOCATION:5200 Hwy 377\, Krugerville\, TX 76227
UID:e.454.3268
SEQUENCE:3
DTSTAMP:20260421T021356Z
URL:https://business.aubreycoc.org/events/details/park-fest-2019-3268
END:VEVENT

END:VCALENDAR
