BEGIN:VCALENDAR
VERSION:2.0
PRODID:-//ChamberMaster//Event Calendar 2.0//EN
METHOD:PUBLISH
X-PUBLISHED-TTL:P3D
REFRESH-INTERVAL:P3D
CALSCALE:GREGORIAN
BEGIN:VEVENT
DTSTART:20201021T163000Z
DTEND:20201021T180000Z
X-MICROSOFT-CDO-ALLDAYEVENT:FALSE
SUMMARY:October 2020 Networking Luncheon
DESCRIPTION:Aubrey 380 Area Chamber of Commerce October Networking Luncheon\n\nLunch by Prairie House Restaurant\n\n(Our first in-person luncheon in eight months!)\n\n\n\nCDC guidelines should be observed\, including: stay  6 feet apart from others not in your group\; face coverings must be worn when not able to maintain 6 foot distancing\; hand sanitizer will be available.
X-ALT-DESC;FMTTYPE=text/html:Aubrey 380 Area Chamber of Commerce October Networking Luncheon<br>\nLunch by Prairie House Restaurant<br>\n(Our first in-person luncheon in eight months!)<br>\n<br>\n<span style="color:#FF0000\;">CDC guidelines should be observed\, including: stay&nbsp\; 6 feet apart from others not in your group\; face coverings must be worn when not able to maintain 6 foot distancing\; hand sanitizer will be available.</span>
LOCATION:Cross Roads Town Pavilion Corner of FM 424 and Fish Trap Rd. Cross Roads\, TX 76227
UID:e.454.3287
SEQUENCE:3
DTSTAMP:20260420T032008Z
URL:https://business.aubreycoc.org/events/details/october-2020-networking-luncheon-3287
END:VEVENT

END:VCALENDAR
