BEGIN:VCALENDAR
VERSION:2.0
PRODID:-//ChamberMaster//Event Calendar 2.0//EN
METHOD:PUBLISH
X-PUBLISHED-TTL:P3D
REFRESH-INTERVAL:P3D
CALSCALE:GREGORIAN
BEGIN:VEVENT
DTSTART:20091105T233000Z
DTEND:20091106T010000Z
X-MICROSOFT-CDO-ALLDAYEVENT:FALSE
SUMMARY:November AACOC Mixer at Aubrey Area Library
DESCRIPTION:Aubrey Area Chamber of Commerce November Mixer sponsored by Aubrey Area Library & Community Pharmacy on Nov. 4 (5:30 PM) at Aubrey Area Library.
X-ALT-DESC;FMTTYPE=text/html:<div>Aubrey Area Chamber of Commerce November Mixer sponsored by Aubrey Area Library &amp\; Community Pharmacy on Nov. 4 (5:30 PM) at Aubrey Area Library.</div>
LOCATION:
UID:e.454.285
SEQUENCE:3
DTSTAMP:20260420T132707Z
URL:https://business.aubreycoc.org/events/details/november-aacoc-mixer-at-aubrey-area-library-11-05-2009-285
END:VEVENT

END:VCALENDAR
