BEGIN:VCALENDAR
VERSION:2.0
PRODID:-//ChamberMaster//Event Calendar 2.0//EN
METHOD:PUBLISH
X-PUBLISHED-TTL:P3D
REFRESH-INTERVAL:P3D
CALSCALE:GREGORIAN
BEGIN:VEVENT
DTSTART:20100911T230000Z
DTEND:20100912T030000Z
X-MICROSOFT-CDO-ALLDAYEVENT:FALSE
SUMMARY:National Night Out
DESCRIPTION:National Night Out hosted by Aubrey Crime Watch
X-ALT-DESC;FMTTYPE=text/html:<div>National Night Out hosted by Aubrey Crime Watch</div>
LOCATION:
UID:e.454.289
SEQUENCE:3
DTSTAMP:20260419T223910Z
URL:https://business.aubreycoc.org/events/details/national-night-out-09-11-2010-289
END:VEVENT

END:VCALENDAR
