BEGIN:VCALENDAR
VERSION:2.0
PRODID:-//ChamberMaster//Event Calendar 2.0//EN
METHOD:PUBLISH
X-PUBLISHED-TTL:P3D
REFRESH-INTERVAL:P3D
CALSCALE:GREGORIAN
BEGIN:VEVENT
DTSTART:20190720T233000Z
DTEND:20190721T023000Z
X-MICROSOFT-CDO-ALLDAYEVENT:FALSE
SUMMARY:Music in the Park
DESCRIPTION:Keep Aubrey Beautiful and the Aubrey Municipal Development District present\n\nMusic in the Park FREE Concert Series\n\nDalton Domino\n\nSpecial Guest Kylie Rae Harris will open at 6:30
X-ALT-DESC;FMTTYPE=text/html:<div style="text-align: center\;"><span style="font-size:14px\;"><span style="font-family:arial\;">Keep Aubrey Beautiful and the Aubrey Municipal Development District present<br />\nMusic in the Park FREE Concert Series</span></span><br />\n<strong><span style="font-size:22px\;">Dalton Domino</span></strong><br />\n<span style="font-family:arial\;"><span style="font-size:16px\;">Special Guest Kylie Rae Harris will open at 6:30</span></span></div>\n
LOCATION:Aubrey Festival Grounds 301 S. Main Street Aubrey\, TX 76227
UID:e.454.3270
SEQUENCE:3
DTSTAMP:20260421T003556Z
URL:https://business.aubreycoc.org/events/details/music-in-the-park-3270
END:VEVENT

END:VCALENDAR
