BEGIN:VCALENDAR
VERSION:2.0
PRODID:-//ChamberMaster//Event Calendar 2.0//EN
METHOD:PUBLISH
X-PUBLISHED-TTL:P3D
REFRESH-INTERVAL:P3D
CALSCALE:GREGORIAN
BEGIN:VEVENT
DTSTART;VALUE=DATE:20101215
DTEND;VALUE=DATE:20101216
TRANSP:TRANSPARENT
X-MICROSOFT-CDO-ALLDAYEVENT:TRUE
SUMMARY:Monthly Networking Luncheon Sponsored By Church of Celebratioin Metro
DESCRIPTION:This event is open to members and nonmembers of the Chamber. We have a variety of speakers and entertainers that pertain to business interests as well as personal interests.
X-ALT-DESC;FMTTYPE=text/html:<div>This event is open to members and nonmembers of the Chamber. We have a variety of speakers and entertainers that pertain to business interests as well as personal interests.</div>
LOCATION:The Prairie House Restaurant\, 1001 Hwy. 380 Cross Roads\, TX 76227 (940)440-9760
UID:e.454.26
SEQUENCE:3
DTSTAMP:20260419T181815Z
URL:https://business.aubreycoc.org/events/details/monthly-networking-luncheon-sponsored-by-church-of-celebratioin-metro-12-15-2010-26
END:VEVENT

END:VCALENDAR
