BEGIN:VCALENDAR
VERSION:2.0
PRODID:-//ChamberMaster//Event Calendar 2.0//EN
METHOD:PUBLISH
X-PUBLISHED-TTL:P3D
REFRESH-INTERVAL:P3D
CALSCALE:GREGORIAN
BEGIN:VEVENT
DTSTART:20100421T163000Z
DTEND:20100421T173000Z
X-MICROSOFT-CDO-ALLDAYEVENT:FALSE
SUMMARY:Monthly Networking Luncheon
DESCRIPTION:This event is open to members and nonmembers of the Chamber. We have a variety of speakers and entertainers that pertain to business interests as well as personal interests.
X-ALT-DESC;FMTTYPE=text/html:<div>This event is open to members and nonmembers of the Chamber. We have a variety of speakers and entertainers that pertain to business interests as well as personal interests.</div>
LOCATION:The Prairie House Restaurant\, 1001 Hwy. 380 Cross Roads\, TX 76227 (940)440-9760
UID:e.454.18
SEQUENCE:3
DTSTAMP:20260420T061209Z
URL:https://business.aubreycoc.org/events/details/monthly-networking-luncheon-04-21-2010-18
END:VEVENT

END:VCALENDAR
