BEGIN:VCALENDAR
VERSION:2.0
PRODID:-//ChamberMaster//Event Calendar 2.0//EN
METHOD:PUBLISH
X-PUBLISHED-TTL:P3D
REFRESH-INTERVAL:P3D
CALSCALE:GREGORIAN
BEGIN:VEVENT
DTSTART;VALUE=DATE:20090121
DTEND;VALUE=DATE:20090122
TRANSP:TRANSPARENT
X-MICROSOFT-CDO-ALLDAYEVENT:TRUE
SUMMARY:Monthly Networking Luncheon
DESCRIPTION:Please join the Aubrey Area Chamber of Commerce for the January luncheon and Annual Meeting. We are excited to introduce the 2008 Citizen of the Year\, 2008 Business of the Year\, 2008 Chamber Volunteer as well as recognize your Board of Directors and your new Chamber Director Officers for 2009.
X-ALT-DESC;FMTTYPE=text/html:<div>Please join the Aubrey Area Chamber of Commerce for the January luncheon and Annual Meeting. We are excited to introduce the 2008 Citizen of the Year\, 2008 Business of the Year\, 2008 Chamber Volunteer as well as recognize your Board of Directors and your new Chamber Director Officers for 2009.</div>
LOCATION:The Prairie House Restaurant\, 1001 Hwy. 380 Cross Roads\, TX 76227 (940)440-9760
UID:e.454.3
SEQUENCE:3
DTSTAMP:20260421T052558Z
URL:https://business.aubreycoc.org/events/details/monthly-networking-luncheon-01-21-2009-3
END:VEVENT

END:VCALENDAR
