BEGIN:VCALENDAR
VERSION:2.0
PRODID:-//ChamberMaster//Event Calendar 2.0//EN
METHOD:PUBLISH
X-PUBLISHED-TTL:P3D
REFRESH-INTERVAL:P3D
CALSCALE:GREGORIAN
BEGIN:VEVENT
DTSTART:20110412T220000Z
DTEND:20110413T000000Z
X-MICROSOFT-CDO-ALLDAYEVENT:FALSE
SUMMARY:Mom & Friends Mixer and Ribbon Cutting
DESCRIPTION:
X-ALT-DESC;FMTTYPE=text/html:
LOCATION:101 Elm in Aubrey\, Texas
UID:e.454.434
SEQUENCE:3
DTSTAMP:20260419T122416Z
URL:https://business.aubreycoc.org/events/details/mom-friends-mixer-and-ribbon-cutting-04-12-2011-434
END:VEVENT

END:VCALENDAR
