BEGIN:VCALENDAR
VERSION:2.0
PRODID:-//ChamberMaster//Event Calendar 2.0//EN
METHOD:PUBLISH
X-PUBLISHED-TTL:P3D
REFRESH-INTERVAL:P3D
CALSCALE:GREGORIAN
BEGIN:VEVENT
DTSTART:20090606T220000Z
DTEND:20090607T000000Z
X-MICROSOFT-CDO-ALLDAYEVENT:FALSE
SUMMARY:Mecca On Main Ribbon Cutting
DESCRIPTION:
X-ALT-DESC;FMTTYPE=text/html:
LOCATION:
UID:e.454.274
SEQUENCE:3
DTSTAMP:20260420T211409Z
URL:https://business.aubreycoc.org/events/details/mecca-on-main-ribbon-cutting-06-06-2009-274
END:VEVENT

END:VCALENDAR
