BEGIN:VCALENDAR
VERSION:2.0
PRODID:-//ChamberMaster//Event Calendar 2.0//EN
METHOD:PUBLISH
X-PUBLISHED-TTL:P3D
REFRESH-INTERVAL:P3D
CALSCALE:GREGORIAN
BEGIN:VEVENT
DTSTART:20110219T160000Z
DTEND:20110219T170000Z
X-MICROSOFT-CDO-ALLDAYEVENT:FALSE
SUMMARY:Krugerville City Park Groundbreaking
DESCRIPTION:Join the City of Krugerville in their Groundbreaking Ceremony for the new Krugerville City Park.
X-ALT-DESC;FMTTYPE=text/html:Join the City of Krugerville in their Groundbreaking Ceremony for the new Krugerville City Park.
LOCATION:Krugerville City Park--at the corner of Sherry Lane & Fair Meadows Drive in Krugerville\, Texas
UID:e.454.430
SEQUENCE:3
DTSTAMP:20260419T150528Z
URL:https://business.aubreycoc.org/events/details/krugerville-city-park-groundbreaking-02-19-2011-430
END:VEVENT

END:VCALENDAR
