BEGIN:VCALENDAR
VERSION:2.0
PRODID:-//ChamberMaster//Event Calendar 2.0//EN
METHOD:PUBLISH
X-PUBLISHED-TTL:P3D
REFRESH-INTERVAL:P3D
CALSCALE:GREGORIAN
BEGIN:VEVENT
DTSTART:20210423T000000Z
DTEND:20210423T020000Z
X-MICROSOFT-CDO-ALLDAYEVENT:FALSE
SUMMARY:Krugerville City Council Meeting
DESCRIPTION:
X-ALT-DESC;FMTTYPE=text/html:
LOCATION:Krugerville City Hall
UID:e.454.1259
SEQUENCE:3
DTSTAMP:20260419T165539Z
URL:https://business.aubreycoc.org/events/details/krugerville-city-council-meeting-04-22-2021-1259
END:VEVENT

END:VCALENDAR
