BEGIN:VCALENDAR
VERSION:2.0
PRODID:-//ChamberMaster//Event Calendar 2.0//EN
METHOD:PUBLISH
X-PUBLISHED-TTL:P3D
REFRESH-INTERVAL:P3D
CALSCALE:GREGORIAN
BEGIN:VEVENT
DTSTART:20110409T130000Z
DTEND:20110409T170000Z
X-MICROSOFT-CDO-ALLDAYEVENT:FALSE
SUMMARY:Keep Aubrey Beautiful - Great American Cleanup
DESCRIPTION:Please join us at the second annual Keep Aubrey Beautiful Great American Cleanup.\n\n8am-9am- Registration at Downtown Aubrey Festival Grounds\n\n9:00- Trash Pick-up begins\n\n11am- Educational and fun activities begin\n\n11:45am- Lunch provided by BBQ Joint\n\nRegister by March 23\, 2011. T-shirt Provided.
X-ALT-DESC;FMTTYPE=text/html:	\n<br>Please join us at the second annual Keep Aubrey Beautiful Great American Cleanup.\n<br>8am-9am- Registration at Downtown Aubrey Festival Grounds\n<br>9:00- Trash Pick-up begins\n<br>11am- Educational and fun activities begin\n<br>11:45am- Lunch provided by BBQ Joint\n<br>Register by March 23\, 2011. T-shirt Provided.\n<br>
LOCATION:
UID:e.454.432
SEQUENCE:3
DTSTAMP:20260419T122103Z
URL:https://business.aubreycoc.org/events/details/keep-aubrey-beautiful-great-american-cleanup-04-09-2011-432
END:VEVENT

END:VCALENDAR
