BEGIN:VCALENDAR
VERSION:2.0
PRODID:-//ChamberMaster//Event Calendar 2.0//EN
METHOD:PUBLISH
X-PUBLISHED-TTL:P3D
REFRESH-INTERVAL:P3D
CALSCALE:GREGORIAN
BEGIN:VEVENT
DTSTART:20100916T210000Z
DTEND:20100917T000000Z
X-MICROSOFT-CDO-ALLDAYEVENT:FALSE
SUMMARY:Happy Hour at Raphael's Restaurant
DESCRIPTION:
X-ALT-DESC;FMTTYPE=text/html:
LOCATION:
UID:e.454.419
SEQUENCE:3
DTSTAMP:20260419T224421Z
URL:https://business.aubreycoc.org/events/details/happy-hour-at-raphael-s-restaurant-09-16-2010-419
END:VEVENT

END:VCALENDAR
