BEGIN:VCALENDAR
VERSION:2.0
PRODID:-//ChamberMaster//Event Calendar 2.0//EN
METHOD:PUBLISH
X-PUBLISHED-TTL:P3D
REFRESH-INTERVAL:P3D
CALSCALE:GREGORIAN
BEGIN:VEVENT
DTSTART:20090605T183000Z
DTEND:20090605T230000Z
X-MICROSOFT-CDO-ALLDAYEVENT:FALSE
SUMMARY:Golf Tournament
DESCRIPTION:A Big Aubrey Area Chamber of Commerce Golf Tournament Thanks 2009 Aubrey Area Chamber of Commerce Golf TournamentThe 2009 Fifth Annual Aubrey Area Chamber of Commerce Golf Event took place on Friday\, June 5th at Westridge Golf Club in McKinney\, Texas.  The golfers enjoyed beautiful weather while participating in a day of exciting championship quality golf.  The fun continued with an Awards Dinner complete with great food and prizes for team winners and individual players.  This year's golf event was quite a success!Winners of this year's tournament were as follows:1st --Point Bank--Raymond David\,  Jonathan David\, Jim Monaco & Rodney Baker\n2nd--Capt. Morgan's Hotshots--Jim Morgan\, Brad Wilkerson\, Deke Alexander & Wes Hay\n3rd--First Texoma National Bank--Chad Anderson\, Brian Honea\, John Crawford & Russell Shaul\nLady's Longest Drive--Melissa GeigerMen's Longest Drive--Brian HoneaClosest To The Pin Rodney BakerAlso Tyler Wood won the raffle for the golf bag.As with any event\, the success of the event is based on the committee dedication\, great volunteers and our wonderful sponsors. These people gave their time or money to ensure that the 2009 AACOC golf tournament become a huge Success!\nThe 2009 Committee MembersBritt WatsonDanny MitchellDavid PainterDon Richmond Jay Whetsell Jim BrunerJudy HiggsKyle LyonsPat BrockettRussell ShaulThe 2009 VolunteersJill WhetsellMelissa St. ClairShelley LewisSusan JohnsonThe 2009 Sponsors: Aubrey Brick & Claystone GOLD SponsorAubrey ChiropracticDATCU Gold SponsorDomino's Pizza Gold SponsorFirst Choice Power Gold SponsorFirst Security Bank Gold SponsorFirst Texoma National Bank Gold SponsorLaughlin Law & Title Gold SponsorMayo InsurancePaul Taylor Saddle ShopPilot Point Post SignalPoint Bank Gold Sponsor & Double Eagle SponsorPresbyterian Hospital of Denton Eagle SponsorRe/Max First Realty III Gold SponsorTimmons Law OfficeTitle Resources Gold SponsorTony Langdon Auction PropertiesTexas New Mexico Power Gold SponsorVenture FarmsWoodlands Eyecare Gold SponsorThe 2009 Prizes & Donations:CoServDFW ShirtsL.T.C. Professional BuildersMayo InsurancePlato's Closet Britt WatsonProsper BankSunset DirectoryVerizonVetlineWoodland Eyecare
X-ALT-DESC;FMTTYPE=text/html:<div><div><div style="margin: 0in 0in 0pt" align="center"><span style="font-size: small"><big><b>A Big Aubrey Area Chamber of Commerce Golf Tournament Thanks </b></big></span><span style="font-size: small"><big><b>2009 Aubrey Area Chamber of Commerce </b></big></span><span style="font-size: small"><big><b>Golf Tournament</b></big></span></div><div style="margin: 0in 0in 0pt">The 2009 Fifth Annual Aubrey Area Chamber of Commerce Golf Event took place on Friday\, June 5th at Westridge Golf Club in McKinney\, Texas. &nbsp\;The golfers enjoyed beautiful weather while participating in a day of exciting championship quality golf. &nbsp\;The fun continued with an Awards Dinner complete with great food and prizes for team winners and individual players. &nbsp\;This year&rsquo\;s golf event was quite a success!</div><div style="margin: 0in 0in 0pt">Winners of this year&rsquo\;s tournament were as follows:</div><div style="margin: 0in 0in 0pt"><b><span style="color: black">1st --Point Bank--Raymond David\, &nbsp\;Jonathan David\, Jim Monaco &amp\; Rodney Baker<br />2nd--Capt. Morgan&rsquo\;s Hotshots--Jim Morgan\, Brad Wilkerson\, Deke Alexander &amp\; Wes Hay<br />3rd--First Texoma National Bank--Chad Anderson\, Brian Honea\, John Crawford &amp\; Russell Shaul<br />Lady&rsquo\;s Longest Drive--Melissa Geiger</span></b></div><div style="margin: 0in 0in 0pt"><b><span style="color: black">Men&rsquo\;s Longest Drive--Brian Honea</span></b></div><div style="margin: 0in 0in 0pt"><b><span style="color: black">Closest To The Pin&mdash\;Rodney Baker</span></b></div><div style="margin: 0in 0in 0pt"><b><span style="color: black">Also Tyler Wood won the raffle for the golf bag.</span></b></div><div style="margin: 0in 0in 0pt">As with any event\, the success of the event is based on the committee dedication\, great volunteers and our wonderful sponsors. These people gave their time or money to ensure that the 2009 AACOC golf tournament become a huge Success!</div></div><b><u><span style="font-size: 12pt"><br clear="all" /></span></u></b><div><div style="margin: 0in 0in 0pt"><b><u>The 2009 Committee Members</u></b></div><div style="margin: 0in 0in 0pt"><b>Britt Watson</b></div><div style="margin: 0in 0in 0pt"><b>Danny Mitchell</b></div><div style="margin: 0in 0in 0pt"><b>David Painter</b></div><div style="margin: 0in 0in 0pt"><b>Don Richmond </b></div><div style="margin: 0in 0in 0pt"><b>Jay Whetsell </b></div><div style="margin: 0in 0in 0pt"><b>Jim Bruner</b></div><div style="margin: 0in 0in 0pt"><b>Judy Higgs</b></div><div style="margin: 0in 0in 0pt"><b>Kyle Lyons</b></div><div style="margin: 0in 0in 0pt"><b>Pat Brockett</b></div><div style="margin: 0in 0in 0pt"><b>Russell Shaul</b></div><div style="margin: 0in 0in 0pt"><b><u>The 2009 Volunteers</u></b></div><div style="margin: 0in 0in 0pt"><b>Jill Whetsell</b></div><div style="margin: 0in 0in 0pt"><b>Melissa St. Clair</b></div><div style="margin: 0in 0in 0pt"><b>Shelley Lewis</b></div><div style="margin: 0in 0in 0pt"><b>Susan Johnson</b></div><div style="margin: 0in 0in 0pt"><b><u>The 2009 Sponsors: </u></b></div><div style="margin: 0in 0in 0pt"><b>Aubrey Brick &amp\; Claystone&mdash\;GOLD Sponsor</b></div><div style="margin: 0in 0in 0pt"><b>Aubrey Chiropractic</b></div><div style="margin: 0in 0in 0pt"><b>DATCU&mdash\;Gold Sponsor</b></div><div style="margin: 0in 0in 0pt"><b>Domino&rsquo\;s Pizza&mdash\;Gold Sponsor</b></div><div style="margin: 0in 0in 0pt"><b>First Choice Power&mdash\;Gold Sponsor</b></div><div style="margin: 0in 0in 0pt"><b>First Security Bank&mdash\;Gold Sponsor</b></div><div style="margin: 0in 0in 0pt"><b>First Texoma National Bank&mdash\;Gold Sponsor</b></div><div style="margin: 0in 0in 0pt"><b>Laughlin Law &amp\; Title&mdash\;Gold Sponsor</b></div><div style="margin: 0in 0in 0pt"><b>Mayo Insurance</b></div><div style="margin: 0in 0in 0pt"><b>Paul Taylor Saddle Shop</b></div><div style="margin: 0in 0in 0pt"><b>Pilot Point Post Signal</b></div><div style="margin: 0in 0in 0pt"><b>Point Bank&mdash\;Gold Sponsor &amp\; Double Eagle Sponsor</b></div><div style="margin: 0in 0in 0pt"><b>Presbyterian Hospital of Denton&mdash\;Eagle Sponsor</b></div><div style="margin: 0in 0in 0pt"><b>Re/Max First Realty III&mdash\;Gold Sponsor</b></div><div style="margin: 0in 0in 0pt"><b>Timmons Law Office</b></div><div style="margin: 0in 0in 0pt"><b>Title Resources&mdash\;Gold Sponsor</b></div><div style="margin: 0in 0in 0pt"><b>Tony Langdon Auction Properties</b></div><div style="margin: 0in 0in 0pt"><b>Texas New Mexico Power&mdash\;Gold Sponsor</b></div><div style="margin: 0in 0in 0pt"><b>Venture Farms</b></div><div style="margin: 0in 0in 0pt"><b>Woodlands Eyecare&mdash\;Gold Sponsor</b></div><div style="margin: 0in 0in 0pt"><b><u>The 2009 Prizes &amp\; Donations:</u></b></div><div style="margin: 0in 0in 0pt"><b>CoServ</b></div><div style="margin: 0in 0in 0pt"><b>DFW Shirts</b></div><div style="margin: 0in 0in 0pt"><b>L.T.C. Professional Builders</b></div><div style="margin: 0in 0in 0pt"><b>Mayo Insurance</b></div><div style="margin: 0in 0in 0pt"><b>Plato&rsquo\;s Closet&mdash\;Britt Watson</b></div><div style="margin: 0in 0in 0pt"><b>Prosper Bank</b></div><div style="margin: 0in 0in 0pt"><b>Sunset Directory</b></div><div style="margin: 0in 0in 0pt"><b>Verizon</b></div><div style="margin: 0in 0in 0pt"><b>Vetline</b></div><div style="margin: 0in 0in 0pt"><b>Woodland Eyecare</b></div></div></div>
LOCATION:Westridge Golf Course
UID:e.454.265
SEQUENCE:3
DTSTAMP:20260420T211254Z
URL:https://business.aubreycoc.org/events/details/golf-tournament-06-05-2009-265
END:VEVENT

END:VCALENDAR
