BEGIN:VCALENDAR
VERSION:2.0
PRODID:-//ChamberMaster//Event Calendar 2.0//EN
METHOD:PUBLISH
X-PUBLISHED-TTL:P3D
REFRESH-INTERVAL:P3D
CALSCALE:GREGORIAN
BEGIN:VEVENT
DTSTART:20190704T223000Z
DTEND:20190705T030000Z
X-MICROSOFT-CDO-ALLDAYEVENT:FALSE
SUMMARY:Freedom Fest
DESCRIPTION:Hayride\n\nPedal Boats & Canoes\n\nFishing (byo gear)\n\nMechanical Bull\n\nRock Wall\n\nBungee Trampoline\n\nFood & drinks for purchase\n\nMusical Guests: The McNeills\n\nFireworks @ 9:45\n\nBYO picnic blankets\, lawn chairs\, bug spray
X-ALT-DESC;FMTTYPE=text/html:<div style="text-align: center\;"><span style="font-size:14px\;"><span style="font-family:arial\;">Hayride<br />\nPedal Boats &amp\; Canoes<br />\nFishing (byo gear)<br />\nMechanical Bull<br />\nRock Wall<br />\nBungee Trampoline<br />\nFood &amp\; drinks&nbsp\;for purchase<br />\n<span style="font-size:16px\;">Musical Guests: The McNeills</span></span></span><br />\n<strong><span style="font-size:20px\;">Fireworks @ 9:45<br />\n<span style="font-size:18px\;">BYO picnic blankets\, lawn chairs\, bug spray</span></span></strong><br />\n&nbsp\;</div>\n
LOCATION:Rancho De La Roca 2459 W. Blackjack Rd Aubrey\, TX 76227
UID:e.454.3271
SEQUENCE:3
DTSTAMP:20260421T003423Z
URL:https://business.aubreycoc.org/events/details/freedom-fest-3271
END:VEVENT

END:VCALENDAR
