BEGIN:VCALENDAR
VERSION:2.0
PRODID:-//ChamberMaster//Event Calendar 2.0//EN
METHOD:PUBLISH
X-PUBLISHED-TTL:P3D
REFRESH-INTERVAL:P3D
CALSCALE:GREGORIAN
BEGIN:VEVENT
DTSTART:20090310T233000Z
DTEND:20090311T003000Z
X-MICROSOFT-CDO-ALLDAYEVENT:FALSE
SUMMARY:Financial Markets Outlook and Opportunities
DESCRIPTION:**This is a public event and is NOT held by the Aubrey Area Chamber of Commerce.** Edward Jones Financial Advisor Hosts "Outlook and Opportunities" Seminar Edward Jones Financial Advisor Adam Friday AAMS of Aubrey will host an "Outlook and Opportunities" investment strategies seminar at 6:30pm\, 3/10/2009 at the Aubrey First Baptist Church (428 and N. Cherry) in Aubrey. Some of the topics Adam will be covering in the seminar include: o The current economic outlook o The impact political and social events may have on the financial markets o The importance of maintaining a long-term investment strategy The seminar is free\, but seating is limited. To reserve a seat\, call Shirley Squires at 940-365-0030.
X-ALT-DESC;FMTTYPE=text/html:<div><strong>**This is a public event and is NOT held by the Aubrey Area Chamber of Commerce.**</strong></div><div>&nbsp\;</div><div>Edward Jones Financial Advisor Hosts &quot\;Outlook and Opportunities&quot\; Seminar Edward Jones Financial Advisor Adam Friday AAMS of Aubrey will host an &quot\;Outlook and Opportunities&quot\; investment strategies seminar at 6:30pm\, 3/10/2009 at the Aubrey First Baptist Church (428 and N. Cherry) in Aubrey. Some of the topics Adam will be covering in the seminar include: o The current economic outlook o The impact political and social events may have on the financial markets o The importance of maintaining a long-term investment strategy The seminar is free\, but seating is limited. To reserve a seat\, call Shirley Squires at 940-365-0030.</div>
LOCATION:Aubrey First Baptist Church (428 & N. Cherry)
UID:e.454.268
SEQUENCE:3
DTSTAMP:20260421T021656Z
URL:https://business.aubreycoc.org/events/details/financial-markets-outlook-and-opportunities-03-10-2009-268
END:VEVENT

END:VCALENDAR
