BEGIN:VCALENDAR
VERSION:2.0
PRODID:-//ChamberMaster//Event Calendar 2.0//EN
METHOD:PUBLISH
X-PUBLISHED-TTL:P3D
REFRESH-INTERVAL:P3D
CALSCALE:GREGORIAN
BEGIN:VEVENT
DTSTART;VALUE=DATE:20090415
DTEND;VALUE=DATE:20090416
TRANSP:TRANSPARENT
X-MICROSOFT-CDO-ALLDAYEVENT:TRUE
SUMMARY:Event at Sims Courtney LLC
DESCRIPTION:**This is a public event and is NOT held by the Aubrey Area Chamber of Commerce.** Last Day to File Your 2008 Tax Return!!!
X-ALT-DESC;FMTTYPE=text/html:<div><strong>**This is a public event and is NOT held by the Aubrey Area Chamber of Commerce.**</strong></div><div>&nbsp\;</div><div>Last Day to File Your 2008 Tax Return!!!</div>
LOCATION:
UID:e.454.270
SEQUENCE:3
DTSTAMP:20260421T021550Z
URL:https://business.aubreycoc.org/events/details/event-at-sims-courtney-llc-04-15-2009-270
END:VEVENT

END:VCALENDAR
