BEGIN:VCALENDAR
VERSION:2.0
PRODID:-//ChamberMaster//Event Calendar 2.0//EN
METHOD:PUBLISH
X-PUBLISHED-TTL:P3D
REFRESH-INTERVAL:P3D
CALSCALE:GREGORIAN
BEGIN:VEVENT
DTSTART:20090405T150000Z
DTEND:20090405T050000Z
X-MICROSOFT-CDO-ALLDAYEVENT:FALSE
SUMMARY:Easter Egg Hunt - First United Methodist
DESCRIPTION:**This is a public event and is NOT held by the Aubrey Area Chamber of Commerce.** Join the members and friends of the Aubrey First United Methodist for our annual Easter Egg Hunt. Worship services begin at 10:00 AM. The Hunt will begin shortly after worship services end.
X-ALT-DESC;FMTTYPE=text/html:<div><strong>**This is a public event and is NOT held by the Aubrey Area Chamber of Commerce.**</strong></div><div>&nbsp\;</div><div><div>Join the members and friends of the Aubrey First United Methodist for our annual Easter Egg Hunt. Worship services begin at 10:00 AM. The Hunt will begin shortly after worship services end.</div></div>
LOCATION:Aubrey First United Methodist Church\, 113 West Plum Street\, Aubrey\, Texas 76227
UID:e.454.269
SEQUENCE:3
DTSTAMP:20260421T021425Z
URL:https://business.aubreycoc.org/events/details/easter-egg-hunt-first-united-methodist-04-05-2009-269
END:VEVENT

END:VCALENDAR
