BEGIN:VCALENDAR
VERSION:2.0
PRODID:-//ChamberMaster//Event Calendar 2.0//EN
METHOD:PUBLISH
X-PUBLISHED-TTL:P3D
REFRESH-INTERVAL:P3D
CALSCALE:GREGORIAN
BEGIN:VEVENT
DTSTART:20090801T170000Z
DTEND:20090801T200000Z
X-MICROSOFT-CDO-ALLDAYEVENT:FALSE
SUMMARY:Dallas Corinthian Yacht Club Open House
DESCRIPTION:
X-ALT-DESC;FMTTYPE=text/html:
LOCATION:
UID:e.454.280
SEQUENCE:3
DTSTAMP:20260420T181318Z
URL:https://business.aubreycoc.org/events/details/dallas-corinthian-yacht-club-open-house-08-01-2009-280
END:VEVENT

END:VCALENDAR
