BEGIN:VCALENDAR
VERSION:2.0
PRODID:-//ChamberMaster//Event Calendar 2.0//EN
METHOD:PUBLISH
X-PUBLISHED-TTL:P3D
REFRESH-INTERVAL:P3D
CALSCALE:GREGORIAN
BEGIN:VEVENT
DTSTART:20100514T220000Z
DTEND:20100515T000000Z
X-MICROSOFT-CDO-ALLDAYEVENT:FALSE
SUMMARY:Crystal Computer Open House / Ribbon Cutting
DESCRIPTION:
X-ALT-DESC;FMTTYPE=text/html:
LOCATION:
UID:e.454.291
SEQUENCE:3
DTSTAMP:20260420T044437Z
URL:https://business.aubreycoc.org/events/details/crystal-computer-open-house-ribbon-cutting-05-14-2010-291
END:VEVENT

END:VCALENDAR
