BEGIN:VCALENDAR
VERSION:2.0
PRODID:-//ChamberMaster//Event Calendar 2.0//EN
METHOD:PUBLISH
X-PUBLISHED-TTL:P3D
REFRESH-INTERVAL:P3D
CALSCALE:GREGORIAN
BEGIN:VEVENT
DTSTART;VALUE=DATE:20100911
DTEND;VALUE=DATE:20100912
TRANSP:TRANSPARENT
X-MICROSOFT-CDO-ALLDAYEVENT:TRUE
SUMMARY:CPR Training at Aubrey Fire Station
DESCRIPTION:
X-ALT-DESC;FMTTYPE=text/html:
LOCATION:
UID:e.454.294
SEQUENCE:3
DTSTAMP:20260419T223828Z
URL:https://business.aubreycoc.org/events/details/cpr-training-at-aubrey-fire-station-09-11-2010-294
END:VEVENT

END:VCALENDAR
