BEGIN:VCALENDAR
VERSION:2.0
PRODID:-//ChamberMaster//Event Calendar 2.0//EN
METHOD:PUBLISH
X-PUBLISHED-TTL:P3D
REFRESH-INTERVAL:P3D
CALSCALE:GREGORIAN
BEGIN:VEVENT
DTSTART:20100604T170000Z
DTEND:20100604T170000Z
X-MICROSOFT-CDO-ALLDAYEVENT:FALSE
SUMMARY:Chamber Golf Tournament
DESCRIPTION:Aubrey 380 Chamber of Commerce\n5th Annual Golf Tournament\nFriday\, June 4\, 2010\nWestridge Golf Course\, McKinney\, TX\n\nRegistration - Noon\nShotgun Start - 1:30 p.m.\n\nFormat:  4 Man Florida Scramble\n\nEntry:  $100 Per Player\n\nEntry Includes:\nGreen and Cart Fees w/GPS\, Complimentary Range Balls\, Goodie Bag\, Ticket for Prize Drawings\, Southwestern Fajita Dinner Buffet & Award Presentation\n\nTrophies for Closest to Pin and Longest Drive Contests\nTrophies for 1st\, 2nd\, and 3rd Places\n\nDouble Eagle Sponsorship:  $750\nEntry for four players\, one sponsor sign\, recognition in all media promotions\, option of having representatives at the hole to promote your business.\n\nEagle Sponsorship:  $450\nEntry for two players\, one sponsor sign\, recognition in all media promotions\, option of having representative at the hole to promote your business.\n\nBirdie Sponsorship:  $350\nEntry for one player\, one sponsor sign\, recognition in all media promotions\, option of having representation at the hole to promote your business.\n\nPar Sponsorship:  $125\nOne sponsor sign\, recognition in all media promotions
X-ALT-DESC;FMTTYPE=text/html:<div>Aubrey 380 Chamber of Commerce<br />5th Annual Golf Tournament<br />Friday\, June 4\, 2010<br />Westridge Golf Course\, McKinney\, TX<br /><br />Registration - Noon<br />Shotgun Start - 1:30 p.m.<br /><br />Format:  4 Man Florida Scramble<br /><br />Entry:  $100 Per Player<br /><br />Entry Includes:<br />Green and Cart Fees w/GPS\, Complimentary Range Balls\, Goodie Bag\, Ticket for Prize Drawings\, Southwestern Fajita Dinner Buffet &amp\; Award Presentation<br /><br />Trophies for Closest to Pin and Longest Drive Contests<br />Trophies for 1st\, 2nd\, and 3rd Places<br /><br />Double Eagle Sponsorship:  $750<br />Entry for four players\, one sponsor sign\, recognition in all media promotions\, option of having representatives at the hole to promote your business.<br /><br />Eagle Sponsorship:  $450<br />Entry for two players\, one sponsor sign\, recognition in all media promotions\, option of having representative at the hole to promote your business.<br /><br />Birdie Sponsorship:  $350<br />Entry for one player\, one sponsor sign\, recognition in all media promotions\, option of having representation at the hole to promote your business.<br /><br />Par Sponsorship:  $125<br />One sponsor sign\, recognition in all media promotions</div>
LOCATION:Westridge Golf Course\, McKinney\, Texas
UID:e.454.290
SEQUENCE:3
DTSTAMP:20260420T030552Z
URL:https://business.aubreycoc.org/events/details/chamber-golf-tournament-06-04-2010-290
END:VEVENT

END:VCALENDAR
