BEGIN:VCALENDAR
VERSION:2.0
PRODID:-//ChamberMaster//Event Calendar 2.0//EN
METHOD:PUBLISH
X-PUBLISHED-TTL:P3D
REFRESH-INTERVAL:P3D
CALSCALE:GREGORIAN
BEGIN:VEVENT
DTSTART:20090307T230000Z
DTEND:20090308T040000Z
X-MICROSOFT-CDO-ALLDAYEVENT:FALSE
SUMMARY:Casino Night 2009
DESCRIPTION:Don't miss this year's Casino Night at Redfearn Gym featuring Texas Hold' Em Poker Tournament. Also at this fun event will be Slot Machines\, Roulette\, Black Jack Tables\, Craps Table\, Silent Auction and Big Prize Raffles.\n\n \n\nAdvanced tickets are $20 which includes an extra $200 in chips. Tickets at the door are $25\n\n \n\nIf you would like to be a sponsor Casino Night or give a donation\, please call 940-365-9781.
X-ALT-DESC;FMTTYPE=text/html:<div>Don&rsquo\;t miss this year&rsquo\;s Casino Night at Redfearn Gym featuring Texas Hold&rsquo\; Em Poker Tournament. Also at this fun event will be Slot Machines\, Roulette\, Black Jack Tables\, Craps Table\, Silent Auction and Big Prize Raffles.</div>\n\n<div>&nbsp\;</div>\n\n<div>Advanced tickets are $20 which includes an extra $200 in chips. Tickets at the door are $25</div>\n\n<div>&nbsp\;</div>\n\n<div>If you would like to be a sponsor Casino Night or give a donation\, please call 940-365-9781.</div>\n
LOCATION:
UID:e.454.263
SEQUENCE:3
DTSTAMP:20260421T021426Z
URL:https://business.aubreycoc.org/events/details/casino-night-2009-263
END:VEVENT

END:VCALENDAR
