BEGIN:VCALENDAR
VERSION:2.0
PRODID:-//ChamberMaster//Event Calendar 2.0//EN
METHOD:PUBLISH
X-PUBLISHED-TTL:P3D
REFRESH-INTERVAL:P3D
CALSCALE:GREGORIAN
BEGIN:VEVENT
DTSTART:20090226T130000Z
DTEND:20090226T140000Z
X-MICROSOFT-CDO-ALLDAYEVENT:FALSE
SUMMARY:Breakfast Networking Meting
DESCRIPTION:Are you an early riser? Then join us for a breakfast networking meeting. Will be held at KYLE LYONS INSURANCE AGENCY\,  8000 Hwy 380\, Suite 500\, Cross Roads. Please RSVP 940-365-1268 or klyons@farmersagent.com
X-ALT-DESC;FMTTYPE=text/html:<div>Are you an early riser? Then join us for a breakfast networking meeting. Will be held at KYLE LYONS INSURANCE AGENCY\,&nbsp\; 8000 Hwy 380\, Suite 500\, Cross Roads.</div><div>&nbsp\;</div><div>Please RSVP 940-365-1268 or klyons@farmersagent.com</div>
LOCATION:
UID:e.454.267
SEQUENCE:3
DTSTAMP:20260421T052335Z
URL:https://business.aubreycoc.org/events/details/breakfast-networking-meting-02-26-2009-267
END:VEVENT

END:VCALENDAR
