BEGIN:VCALENDAR
VERSION:2.0
PRODID:-//ChamberMaster//Event Calendar 2.0//EN
METHOD:PUBLISH
X-PUBLISHED-TTL:P3D
REFRESH-INTERVAL:P3D
CALSCALE:GREGORIAN
BEGIN:VEVENT
DTSTART:20090129T130000Z
DTEND:20090129T140000Z
X-MICROSOFT-CDO-ALLDAYEVENT:FALSE
SUMMARY:Breakfast Networking Meeting
DESCRIPTION:Bill and Jo Nash have opened their home for some Breakfast Newtorking Meetings. Your RSVP is required to jd_nash@yahoo.com
X-ALT-DESC;FMTTYPE=text/html:<div>Bill and Jo Nash have opened their home for some Breakfast Newtorking Meetings. Your RSVP is required to jd_nash@yahoo.com</div>
LOCATION:527 Amy Jo Circle in Aubrey
UID:e.454.128
SEQUENCE:3
DTSTAMP:20260421T052453Z
URL:https://business.aubreycoc.org/events/details/breakfast-networking-meeting-01-29-2009-128
END:VEVENT

END:VCALENDAR
