BEGIN:VCALENDAR
VERSION:2.0
PRODID:-//ChamberMaster//Event Calendar 2.0//EN
METHOD:PUBLISH
X-PUBLISHED-TTL:P3D
REFRESH-INTERVAL:P3D
CALSCALE:GREGORIAN
BEGIN:VEVENT
DTSTART;VALUE=DATE:20100828
DTEND;VALUE=DATE:20100829
TRANSP:TRANSPARENT
X-MICROSOFT-CDO-ALLDAYEVENT:TRUE
SUMMARY:Bicycle Safety Rodeo
DESCRIPTION:Bicycle Safety Rodeo hosted by Aubrey Crime Watch.
X-ALT-DESC;FMTTYPE=text/html:<div>Bicycle Safety Rodeo hosted by Aubrey Crime Watch.</div>
LOCATION:
UID:e.454.288
SEQUENCE:3
DTSTAMP:20260420T001025Z
URL:https://business.aubreycoc.org/events/details/bicycle-safety-rodeo-08-28-2010-288
END:VEVENT

END:VCALENDAR
