BEGIN:VCALENDAR
VERSION:2.0
PRODID:-//ChamberMaster//Event Calendar 2.0//EN
METHOD:PUBLISH
X-PUBLISHED-TTL:P3D
REFRESH-INTERVAL:P3D
CALSCALE:GREGORIAN
BEGIN:VEVENT
DTSTART:20101203T003000Z
DTEND:20101203T020000Z
X-MICROSOFT-CDO-ALLDAYEVENT:FALSE
SUMMARY:Aubrey Tree Lighting Ceremony & Crowning of Little Miss Mainstreet
DESCRIPTION:
X-ALT-DESC;FMTTYPE=text/html:
LOCATION:Downtown Aubrey
UID:e.454.424
SEQUENCE:3
DTSTAMP:20260419T181540Z
URL:https://business.aubreycoc.org/events/details/aubrey-tree-lighting-ceremony-crowning-of-little-miss-mainstreet-12-02-2010-424
END:VEVENT

END:VCALENDAR
