BEGIN:VCALENDAR
VERSION:2.0
PRODID:-//ChamberMaster//Event Calendar 2.0//EN
METHOD:PUBLISH
X-PUBLISHED-TTL:P3D
REFRESH-INTERVAL:P3D
CALSCALE:GREGORIAN
BEGIN:VEVENT
DTSTART;VALUE=DATE:20101115
DTEND;VALUE=DATE:20101116
TRANSP:TRANSPARENT
X-MICROSOFT-CDO-ALLDAYEVENT:TRUE
SUMMARY:Aubrey Pharmacy and Springhill Medical & Aesthetics Open House/Ribbon Cutting
DESCRIPTION:All day fun with Aubrey Pharmacy and Springhill Medical & Aesthetics Open House.\n\nRibbon Cutting Ceremonies will be at 5:15 PM.
X-ALT-DESC;FMTTYPE=text/html:All day fun with Aubrey Pharmacy and Springhill Medical &amp\; Aesthetics Open House.<br />\nRibbon Cutting Ceremonies will be at 5:15 PM.
LOCATION:Corner of Hwy 377 and Springhill Road
UID:e.454.421
SEQUENCE:3
DTSTAMP:20260419T195440Z
URL:https://business.aubreycoc.org/events/details/aubrey-pharmacy-and-springhill-medical-aesthetics-open-house-ribbon-cutting-11-15-2010-421
END:VEVENT

END:VCALENDAR
