BEGIN:VCALENDAR
VERSION:2.0
PRODID:-//ChamberMaster//Event Calendar 2.0//EN
METHOD:PUBLISH
X-PUBLISHED-TTL:P3D
REFRESH-INTERVAL:P3D
CALSCALE:GREGORIAN
BEGIN:VEVENT
DTSTART;VALUE=DATE:20161001
DTEND;VALUE=DATE:20161002
TRANSP:TRANSPARENT
X-MICROSOFT-CDO-ALLDAYEVENT:TRUE
SUMMARY:Aubrey Peanut Festival
DESCRIPTION:
X-ALT-DESC;FMTTYPE=text/html:
LOCATION:
UID:e.454.967
SEQUENCE:3
DTSTAMP:20260423T073023Z
URL:https://business.aubreycoc.org/events/details/aubrey-peanut-festival-10-01-2016-967
END:VEVENT

END:VCALENDAR
