BEGIN:VCALENDAR
VERSION:2.0
PRODID:-//ChamberMaster//Event Calendar 2.0//EN
METHOD:PUBLISH
X-PUBLISHED-TTL:P3D
REFRESH-INTERVAL:P3D
CALSCALE:GREGORIAN
BEGIN:VEVENT
DTSTART:20101212T010000Z
DTEND:20101212T030000Z
X-MICROSOFT-CDO-ALLDAYEVENT:FALSE
SUMMARY:Aubrey Methodist Church Chili Supper Benefit
DESCRIPTION:
X-ALT-DESC;FMTTYPE=text/html:
LOCATION:
UID:e.454.425
SEQUENCE:3
DTSTAMP:20260419T181454Z
URL:https://business.aubreycoc.org/events/details/aubrey-methodist-church-chili-supper-benefit-12-11-2010-425
END:VEVENT

END:VCALENDAR
