BEGIN:VCALENDAR
VERSION:2.0
PRODID:-//ChamberMaster//Event Calendar 2.0//EN
METHOD:PUBLISH
X-PUBLISHED-TTL:P3D
REFRESH-INTERVAL:P3D
CALSCALE:GREGORIAN
BEGIN:VEVENT
DTSTART:20110108T170000Z
DTEND:20110108T200000Z
X-MICROSOFT-CDO-ALLDAYEVENT:FALSE
SUMMARY:Aubrey Historical Society's Pasta Luncheon
DESCRIPTION:Fund raiser for Aubrey Historical Society\, who is raising funds for publication of Aubrey History Book.\n\n\n\nPast Luncheon program will include two panels of long-time Aubrey Resitdents remembering and sharing stories from their past.
X-ALT-DESC;FMTTYPE=text/html:Fund raiser for Aubrey Historical Society\, who is raising funds for publication of Aubrey History Book.<br />\n<br />\nPast Luncheon program will include two panels of long-time Aubrey Resitdents remembering and sharing stories from their past.
LOCATION:Coffey Building 408 N. Main Street Aubrey\, TX
UID:e.454.428
SEQUENCE:3
DTSTAMP:20260419T162031Z
URL:https://business.aubreycoc.org/events/details/aubrey-historical-society-s-pasta-luncheon-01-08-2011-428
END:VEVENT

END:VCALENDAR
