BEGIN:VCALENDAR
VERSION:2.0
PRODID:-//ChamberMaster//Event Calendar 2.0//EN
METHOD:PUBLISH
X-PUBLISHED-TTL:P3D
REFRESH-INTERVAL:P3D
CALSCALE:GREGORIAN
BEGIN:VEVENT
DTSTART:20191127T000000Z
DTEND:20191127T010000Z
X-MICROSOFT-CDO-ALLDAYEVENT:FALSE
SUMMARY:Aubrey City Council Meeting
DESCRIPTION:Regular meeting of the Aubrey City Council
X-ALT-DESC;FMTTYPE=text/html:Regular meeting of the Aubrey City Council
LOCATION:City Council Chambers 226 Countryside Dr. Aubrey TX 76227
UID:e.454.3164
SEQUENCE:3
DTSTAMP:20260420T180556Z
URL:https://business.aubreycoc.org/events/details/aubrey-city-council-meeting-11-26-2019-3164
END:VEVENT

END:VCALENDAR
