BEGIN:VCALENDAR
VERSION:2.0
PRODID:-//ChamberMaster//Event Calendar 2.0//EN
METHOD:PUBLISH
X-PUBLISHED-TTL:P3D
REFRESH-INTERVAL:P3D
CALSCALE:GREGORIAN
BEGIN:VEVENT
DTSTART:20241120T173000Z
DTEND:20241120T190000Z
X-MICROSOFT-CDO-ALLDAYEVENT:FALSE
SUMMARY:Aubrey 380 Area CoC Networking Luncheon-November 20\, 2024
DESCRIPTION:Chamber Networking Luncheon\n\nSponsor: CoServe\n\nSpeaker: Dwayne E. Hildreth\n\n              Consulting\, Connecting\, Storytelling \n\n\n\n\n\nCatered by: Oak & Ivy
X-ALT-DESC;FMTTYPE=text/html:<span style="font-size:14px\;">Chamber Networking Luncheon<br />\nSponsor: CoServe<br />\nSpeaker:</span>&nbsp\;<span style="font-size:14px\;"><span style="font-family:tahoma\;">Dwayne E. Hildreth</span></span><br />\n&nbsp\; &nbsp\; &nbsp\; &nbsp\; &nbsp\; &nbsp\; &nbsp\;<span style="font-size:12px\;"> Consulting\, Connecting\, Storytelling&nbsp\;</span><br />\n<br />\n<br />\n<span style="font-size:14px\;">Catered by: Oak &amp\; Ivy</span>
LOCATION:Oak & Ivy 11858 FM 428 (Springhill Rd) Aubrey\, TX 76227
UID:e.454.4414
SEQUENCE:3
DTSTAMP:20260423T071340Z
URL:https://business.aubreycoc.org/events/details/aubrey-380-area-coc-networking-luncheon-november-20-2024-4414
END:VEVENT

END:VCALENDAR
