BEGIN:VCALENDAR
VERSION:2.0
PRODID:-//ChamberMaster//Event Calendar 2.0//EN
METHOD:PUBLISH
X-PUBLISHED-TTL:P3D
REFRESH-INTERVAL:P3D
CALSCALE:GREGORIAN
BEGIN:VEVENT
DTSTART:20210616T163000Z
DTEND:20210616T174500Z
X-MICROSOFT-CDO-ALLDAYEVENT:FALSE
SUMMARY:Aubrey 380 Area COC Networking Luncheon-June 2021
DESCRIPTION:Aubrey 380 Area Chamber of Commerce\n\nMonthly Networking Luncheon--June 2021    \n\nSpeaker: \n\nSponsor:
X-ALT-DESC;FMTTYPE=text/html:Aubrey 380 Area Chamber of Commerce<br />\nMonthly Networking Luncheon--June 2021&nbsp\;&nbsp\;&nbsp\;&nbsp\;<br />\nSpeaker:&nbsp\;<br />\nSponsor:&nbsp\;
LOCATION:Prairie House Restaurant--Still! 10001 U. S. 380 Cross Roads\, TX 76227
UID:e.454.3295
SEQUENCE:3
DTSTAMP:20260419T142255Z
URL:https://business.aubreycoc.org/events/details/aubrey-380-area-coc-networking-luncheon-june-2021-3295
END:VEVENT

END:VCALENDAR
