BEGIN:VCALENDAR
VERSION:2.0
PRODID:-//ChamberMaster//Event Calendar 2.0//EN
METHOD:PUBLISH
X-PUBLISHED-TTL:P3D
REFRESH-INTERVAL:P3D
CALSCALE:GREGORIAN
BEGIN:VEVENT
DTSTART:20210421T163000Z
DTEND:20210421T174500Z
X-MICROSOFT-CDO-ALLDAYEVENT:FALSE
SUMMARY:Aubrey 380 Area COC Networking Luncheon-April 2021
DESCRIPTION:Aubrey 380 Area Chamber of Commerce\n\nMonthly Networking Luncheon--April 2021    \n\nSpeaker: Dr. David Belding\, Superintendent Aubrey ISD\n\nSponsor:  Ciera Bank
X-ALT-DESC;FMTTYPE=text/html:Aubrey 380 Area Chamber of Commerce<br />\nMonthly Networking Luncheon--April 2021&nbsp\;&nbsp\;&nbsp\;&nbsp\;<br />\nSpeaker: Dr. David Belding\, Superintendent Aubrey ISD<br />\nSponsor:&nbsp\; Ciera Bank
LOCATION:Prairie House Restaurant 10001 U. S. 380 Cross Roads\, TX 76227
UID:e.454.3292
SEQUENCE:3
DTSTAMP:20260419T165424Z
URL:https://business.aubreycoc.org/events/details/aubrey-380-area-coc-networking-luncheon-april-2021-3292
END:VEVENT

END:VCALENDAR
