BEGIN:VCALENDAR
VERSION:2.0
PRODID:-//ChamberMaster//Event Calendar 2.0//EN
METHOD:PUBLISH
X-PUBLISHED-TTL:P3D
REFRESH-INTERVAL:P3D
CALSCALE:GREGORIAN
BEGIN:VEVENT
DTSTART:20191108T170000Z
DTEND:20191108T210000Z
X-MICROSOFT-CDO-ALLDAYEVENT:FALSE
SUMMARY:Aubrey 380 Area CoC 1st Annual Clay Shoot
DESCRIPTION:1st Annual Aubrey 380 Area\n\nChamber of Commerce Clay Shoot\n\nEntry inludes:\n\n	golf cart fees\n	eye & ear protection\n	2 mullians\n	poker run (cash prize)\n	one raffle ticket for shotgun\n	lunch\n	trophies for 1st\, 2nd\, 3rd place teams\n	trophies for most # of targets hit\n	trophies for least # of targets hit
X-ALT-DESC;FMTTYPE=text/html:1st Annual Aubrey 380 Area<br />\nChamber of Commerce Clay Shoot<br />\nEntry inludes:\n<ul>\n	<li>golf cart fees</li>\n	<li>eye &amp\; ear protection</li>\n	<li>2 mullians</li>\n	<li>poker run (cash prize)</li>\n	<li>one raffle ticket for shotgun</li>\n	<li>lunch</li>\n	<li>trophies for 1st\, 2nd\, 3rd place teams</li>\n	<li>trophies for most # of targets hit</li>\n	<li>trophies for least # of targets hit</li>\n</ul>\n
LOCATION:Fossil Pointe Sporting Grounds 7282 N FM 51 Decatur\, TX 76248
UID:e.454.3274
SEQUENCE:3
DTSTAMP:20260420T180004Z
URL:https://business.aubreycoc.org/events/details/aubrey-380-area-coc-1st-annual-clay-shoot-3274
END:VEVENT

END:VCALENDAR
