BEGIN:VCALENDAR
VERSION:2.0
PRODID:-//ChamberMaster//Event Calendar 2.0//EN
METHOD:PUBLISH
X-PUBLISHED-TTL:P3D
REFRESH-INTERVAL:P3D
CALSCALE:GREGORIAN
BEGIN:VEVENT
DTSTART:20200611T000000Z
DTEND:20200611T030000Z
X-MICROSOFT-CDO-ALLDAYEVENT:FALSE
SUMMARY:Aubrey 380 Area Chamber of Commerce Night @ Frisco RoughRiders
DESCRIPTION:Aubrey 380 Area Chamber of Commerce Night\n\nat the Frisco RoughRiders
X-ALT-DESC;FMTTYPE=text/html:<h2><strong>Aubrey 380 Area Chamber of Commerce Night</strong></h2>\n\n<h2><strong>at the Frisco RoughRiders</strong></h2>\n
LOCATION:Dr. Pepper Ballpark 7300 RoughRider Trail Frisco\, Texas
UID:e.454.3282
SEQUENCE:3
DTSTAMP:20260420T074824Z
URL:https://business.aubreycoc.org/events/details/aubrey-380-area-chamber-of-commerce-night-frisco-roughriders-3282
END:VEVENT

END:VCALENDAR
