BEGIN:VCALENDAR
VERSION:2.0
PRODID:-//ChamberMaster//Event Calendar 2.0//EN
METHOD:PUBLISH
X-PUBLISHED-TTL:P3D
REFRESH-INTERVAL:P3D
CALSCALE:GREGORIAN
BEGIN:VEVENT
DTSTART:20210514T160000Z
DTEND:20210514T200000Z
X-MICROSOFT-CDO-ALLDAYEVENT:FALSE
SUMMARY:2nd Annual Clay Shoot--2021
DESCRIPTION:Aubrey 380 Area\n\nChamber of Commerce\n\n2nd Annual Clay Shoot\n\n\n\nShooter entry includes:\n\n	golf cart fees\n	eye & ear protection\n	2 mulligans\n	poker run (cash prize)\n	one raffle ticket for shotgun\n	lunch\n	trophies for 1st\, 2nd\, 3rd place teams\n	trophies for most # of targets hit\n	trophies for least # of targets hit
X-ALT-DESC;FMTTYPE=text/html:Aubrey 380 Area<br />\nChamber of Commerce<br />\n2nd Annual&nbsp\;Clay Shoot<br />\n<br />\nShooter entry includes:\n<ul>\n	<li>golf cart fees</li>\n	<li>eye &amp\; ear protection</li>\n	<li>2 mulligans</li>\n	<li>poker run (cash prize)</li>\n	<li>one raffle ticket for shotgun</li>\n	<li>lunch</li>\n	<li>trophies for 1st\, 2nd\, 3rd place teams</li>\n	<li>trophies for most # of targets hit</li>\n	<li>trophies for least # of targets hit</li>\n</ul>\n
LOCATION:Fossil Pointe Sporting Grounds 7282 N FM 51 Decatur\, TX 76248
UID:e.454.3291
SEQUENCE:3
DTSTAMP:20260419T153158Z
URL:https://business.aubreycoc.org/events/details/2nd-annual-clay-shoot-2021-3291
END:VEVENT

END:VCALENDAR
