BEGIN:VCALENDAR
VERSION:2.0
PRODID:-//ChamberMaster//Event Calendar 2.0//EN
METHOD:PUBLISH
X-PUBLISHED-TTL:P3D
REFRESH-INTERVAL:P3D
CALSCALE:GREGORIAN
BEGIN:VEVENT
DTSTART:20181001T130000Z
DTEND:20181001T190000Z
X-MICROSOFT-CDO-ALLDAYEVENT:FALSE
SUMMARY:2018 Golf Tournament
DESCRIPTION:Aubrey 380 Area Chamber of Commerce\n\n2018 Golf Tournament\n\n\n\n\n\n\n\n\n\nMONDAY\,\n\nOCTOBER 1\, 2018\n\n \n\nOAKMONT \n\nCOUNTRY CLUB
X-ALT-DESC;FMTTYPE=text/html:<div style="text-align: center\;"><br />\n<span style="font-size:26px\;"><strong><span style="color:#006400\;"><span style="font-family:arial\;">Aubrey 380 Area Chamber of Commerce<br />\n2018&nbsp\;Golf Tournament</span></span></strong></span><br />\n<br />\n<br />\n<br />\n<br />\n<span style="color:#006400\;"><strong><span style="font-family:perpetua titling mt\,serif\;"><span style="font-size:20.0pt\;">MONDAY\,</span></span></strong><br />\n<strong><span style="font-family:perpetua titling mt\,serif\;"><span style="font-size:20.0pt\;">OCTOBER 1\, 2018</span></span></strong><br />\n&nbsp\;<br />\n<strong><span style="font-family:perpetua titling mt\,serif\;"><span style="font-size:20.0pt\;">OAKMONT </span></span></strong><br />\n<strong><span style="font-family:perpetua titling mt\,serif\;"><span style="font-size:20.0pt\;">COUNTRY CLUB</span></span></strong></span><br />\n<br />\n&nbsp\;</div>\n
LOCATION:Oakmont Country Club 1200 Clubhouse Drive Corinth\, TX 76210
UID:e.454.3002
SEQUENCE:3
DTSTAMP:20260421T142631Z
URL:https://business.aubreycoc.org/events/details/2018-golf-tournament-3002
END:VEVENT

END:VCALENDAR
